BEGIN:VCALENDAR
VERSION:2.0
PRODID:-//Prima - ECPv5.8.0//NONSGML v1.0//EN
CALSCALE:GREGORIAN
METHOD:PUBLISH
X-WR-CALNAME:Prima
X-ORIGINAL-URL:https://prima.vn
X-WR-CALDESC:Events for Prima
BEGIN:VTIMEZONE
TZID:Asia/Krasnoyarsk
BEGIN:STANDARD
TZOFFSETFROM:+0700
TZOFFSETTO:+0700
TZNAME:+07
DTSTART:20220101T000000
END:STANDARD
END:VTIMEZONE
BEGIN:VEVENT
DTSTART;TZID=Asia/Krasnoyarsk:20220617T090000
DTEND;TZID=Asia/Krasnoyarsk:20220617T110000
DTSTAMP:20260421T195823
CREATED:20220608T080221Z
LAST-MODIFIED:20220608T080221Z
UID:9316-1655456400-1655463600@prima.vn
SUMMARY:BAO BÌ XANH VÌ TRÁI ĐẤT XANH – PHẦN 2: CHỨC NĂNG TIẾP THỊ CỦA BAO BÌ VÀ BAO BÌ BỀN VỮNG
DESCRIPTION:Hiện tại và tương lai\, tính bền vững và chuyển đổi kỹ thuật số là hai xu hướng lớn đại diện cho những thách thức mang tính đột phá nhất đối với ngành Bao bì\, đó cũng là hai lĩnh vực có thể gặt hái nhiều thành quả nhất.\nTham dự hội thảo trực tuyến “BAO BÌ XANH VÌ TRÁI ĐẤT XANH – PHẦN 2: CHỨC NĂNG TIẾP THỊ CỦA BAO BÌ VÀ BAO BÌ BỀN VỮNG” do Học viện PrintMedia Việt Nam phối hợp cùng Hiệp hội Bao bì Việt Nam để cùng các chuyên gia trong lĩnh vực bao bì trao đổi về các chủ đề này.
URL:https://prima.vn/event/bao-bi-xanh-vi-trai-dat-xanh-phan-2-chuc-nang-tiep-thi-cua-bao-bi-va-bao-bi-ben-vung/
ATTACH;FMTTYPE=image/jpeg:https://prima.vn/wp-content/uploads/2022/06/01-Web-banner-17_06_22-copy.jpg
ORGANIZER;CN="H%E1%BB%8Dc%20vi%E1%BB%87n%20PrintMedia%20Vi%E1%BB%87t%20Nam":MAILTO:admin@prima.vn
END:VEVENT
END:VCALENDAR