BEGIN:VCALENDAR
VERSION:2.0
PRODID:-//Prima - ECPv5.8.0//NONSGML v1.0//EN
CALSCALE:GREGORIAN
METHOD:PUBLISH
X-WR-CALNAME:Prima
X-ORIGINAL-URL:https://prima.vn
X-WR-CALDESC:Events for Prima
BEGIN:VTIMEZONE
TZID:UTC
BEGIN:STANDARD
TZOFFSETFROM:+0000
TZOFFSETTO:+0000
TZNAME:UTC
DTSTART:20170101T000000
END:STANDARD
END:VTIMEZONE
BEGIN:VEVENT
DTSTART;VALUE=DATE:20170506
DTEND;VALUE=DATE:20170509
DTSTAMP:20260421T200615
CREATED:20150817T063828Z
LAST-MODIFIED:20210618T094745Z
UID:2972-1494028800-1494287999@prima.vn
SUMMARY:Hội thảo quốc tế và chương trình huấn luyện về công nghệ và quản lí in - ASEAN PRINT FORUM & TRAINING
DESCRIPTION:Từ 9g00 đến 13giờ ngày 6/5 tại phòng hội thảo lớn của khu triển lãm sẽ diễn ra hội thảo quốc tế và chương trình huấn luyện về công nghệ và quản lí in ASEAN PRINT FORUM & TRAINING. \nCác chủ đề báo cáo: \n\n1- Total Quality Management – Quản lí chất lượng toàn diện – \,\nBCV: Ông Boy Kitane – Philippines \n2- How printers embrace modern technology to ensure survival – Làm thế nào để nhà in sử dụng hiệu quả công nghệ hiện đại –\nBCV: Ông Jimmy Junento – Indonesia. \n3- How to deal with market challenges in Vietnam – a case study – Làm thế nào để đối phó với các thách thức của thị trường ngành in Việt Nam – một điển cứu.\nBCV: Ông Nguyễn Thái Dũng – công ty Huynh đệ Anh Khoa (Anh Khoa’s Brother) – Vietnam. \nChủ trì hội thảo: Ông Ngô Anh Tuấn\nP. Chủ tịch Hiệp hội In VN\nChủ tịch Hội in TPHCM \nHội thảo bằng tiếng Anh và có phiên dịch tiếng việt. \nNgoài các báo cáo\, phần rất quan trọng của hội thảo chính là trao đổi những vấn đề về quản lí chất lượng in & quá trình sản xuất in. Hội thảo sẽ làm rõ những vấn đề mà ngành in các nước Asean quan tâm. \nDo hội thảo diễn ra trong thời gian triển lãm và hội nghị thường niên của Hiệp hội In Việt nam nên khách tham dự rất đông\, số chỗ ngồi có hạn và ưu tiên cho khách quốc tế tham dự hội nghị Asean Print\, quí khách nên đến sớm để giữ chỗ.
URL:https://prima.vn/event/e3-expo/
LOCATION:Ho Chi Minh city\, E2a\, Ho Chi Minh\, Ho Chi Minh\, Viet Nam
CATEGORIES:Conventions
ATTACH;FMTTYPE=image/png:https://prima.vn/wp-content/uploads/2015/08/22047946_718235445033169_2934587441838373162_o.png
END:VEVENT
END:VCALENDAR