BEGIN:VCALENDAR
VERSION:2.0
PRODID:-//Prima - ECPv5.8.0//NONSGML v1.0//EN
CALSCALE:GREGORIAN
METHOD:PUBLISH
X-WR-CALNAME:Prima
X-ORIGINAL-URL:https://prima.vn
X-WR-CALDESC:Events for Prima
BEGIN:VTIMEZONE
TZID:Asia/Krasnoyarsk
BEGIN:STANDARD
TZOFFSETFROM:+0700
TZOFFSETTO:+0700
TZNAME:+07
DTSTART:20220101T000000
END:STANDARD
END:VTIMEZONE
BEGIN:VEVENT
DTSTART;TZID=Asia/Krasnoyarsk:20220511T150000
DTEND;TZID=Asia/Krasnoyarsk:20220511T161500
DTSTAMP:20260421T213357
CREATED:20220507T022605Z
LAST-MODIFIED:20220507T022605Z
UID:9183-1652281200-1652285700@prima.vn
SUMMARY:HỘI THẢO TRỰC TUYẾN - TÍNH BỀN VỮNG TRONG BAO BÌ DƯỢC PHẨM
DESCRIPTION:HỘI THẢO TRỰC TUYẾN – TÍNH BỀN VỮNG TRONG BAO BÌ DƯỢC PHẨM \nHội thảo trực tuyến này tập trung vào mảng bao bì dược phẩm\, đăng ký tham dự để được lắng nghe các ý kiến từ các chuyên gia và các giải pháp bền vững cho bao bì dược phẩm. Các khả năng cũng như các mặt hạn chế của mảng bao bì này sẽ được thảo luận ở cả góc độ người chuyển đổi cũng như người dùng cuối. \nThời gian: 15g00 – 16g15 (GMT+7)\, thứ 4 ngày 11 tháng 05 năm 2022 \n\n\n\n\n\n\n\n\n\n\n\n\n\n\n\n\n\n\n\n\n\n\n\n\n\n\n\n\n\n\n\n\n\n\n\n\n\n\n\n\n\n\n\nView in browser\n\n\n\n\n\n\n\n\n\n\n\n\n\n\n\n\n\n\n\n\n\n\n\n\n\n\n\n\n\n\n\n\n\n\n\n\n\n\n\n\n\n\n\n\n\n\n\n\n\nSustainability in Pharmaceutical Packaging\n\n\n\n\n\n\n\n\n\n\n\n\n\n\n\n\n\n\n\n\n\n\n\n\n\n\n\n\n\nProPak Connect will host World Packaging Organization’s webinar this May 2022.\n\n\n\n\n\n\n\n\n\n\n\n\n\n\n\n\n\n\nThis exciting webinar focuses on pharmaceutical packaging\, hearing from packaging experts regarding sustainable solutions for primary pharmaceutical packaging. The possibilities and limitations will be discussed from both from a convertors’ as well as an end user’s perspective. This along with the importance of ensuring how important pharmaceutical labelling plays in the finished product. Read more \n \n\n\n\n\n\n\n\n\n\n\n\n\n\n\nSession Details: \nDate: 11 May 2022\, Wednesday\nTime: 3:00 – 4:15 PM\nTime Zone: GMT+7 (Bangkok time)\nLanguage: English \nThis session is free to attend\n\n\n\n\n\n\n\n\n\n\n\n\n\n\n\n\n\n\nMore Details\n\n\n\n\n\n\n\n\n\n\n\n\n\n\nRegister for this session\n\n\n\n\n\n\n\n\n\n\n\n\n\n\n\n\n\n\nMODERATOR\n\n\n\n\n\n\n\n\n\n\n\n\n\n\n\n\n\n\n\n\n\nDR. JOHANNES BERGMAIR\nGeneral Secretary\nWorld Packaging Organisation\n\n\n\n\n\n\n\n\n\n\n\n\n\n\n\n\n\n\nSPEAKERS\n\n\n\n\n\n\n\n\n\n\n\n\n\n\n\n\n\n\n\n\n\nDR. JOERG ADRIAN\nVice President\nTechnical Organization & Innovation\nConstantia Flexibles’ Pharma Division\n\n\n\n\n\n\n\n\n\n\n\n\n\n\n\n\n\n\nMR. LARS LJUNG\nSustainability Manager\nPlanet Protector Packaging\n\n\n\n\n\n\n\n\n\n\n\n\n\n\n\n\n\nDR. CAROL KILCULLEN-LAWRENCE FAIP\, CPP\nSustainability Consultant\nUPM Raflatac\n\n\n\n\n\n\n\n\n\n\n\n\n\n\n\n\n\n\nRegister for this session\n\n\n\n\n\n\n\n\n\n\n\n\n\n\n\n\n\n\nSession by:\n\n\n\n\n\n\n\n\n\n\n\n\n\n\n\n\n\n\n\n\n\n\n\n\n\n\n\n\n\n\n\n\n\n\n\n\n\n\n\n\n\n\n\n\n\n\n\n\n\n\n\n\n\n\n\n\n\n\n\n\n\n\n\n\n\n\n\n\n\n\n\n\n\n\n\n\n\n\n\n \n\n\nProPak Connect is an online integrated supplier showcase platform and content hub with extended features that will host various platforms for sourcing and enquiry management\, facilitate online networking and interactive product and machine demo’s\, and enable virtual and hybrid events. \nContact us at info@propakconnect.com\n\n\n\n\n\n\n\n\n\n\n\n\n\n\n\n\n\n\n\n\n\n\n\n\n\n\n\n\n\n\n\n\n\n\n\n\n\n\n\n\n\n\n\n\n\n\n\n\n\n\n\n\n\n\n\n\n\n\n\n\n\n\n\n\n\n\n\n\n\n\n\n\n\n\n\n\n\n 
URL:https://prima.vn/event/hoi-thao-truc-tuyen-tinh-ben-vung-trong-bao-bi-duoc-pham/
LOCATION:Webinar
ATTACH;FMTTYPE=image/png:https://prima.vn/wp-content/uploads/2022/05/WPO-Webinar-Sustainability-in-Pharmaceutical-Packaging-Website-Banner.png
END:VEVENT
END:VCALENDAR