BEGIN:VCALENDAR
VERSION:2.0
PRODID:-//Prima - ECPv5.8.0//NONSGML v1.0//EN
CALSCALE:GREGORIAN
METHOD:PUBLISH
X-WR-CALNAME:Prima
X-ORIGINAL-URL:https://prima.vn
X-WR-CALDESC:Events for Prima
BEGIN:VTIMEZONE
TZID:Asia/Krasnoyarsk
BEGIN:STANDARD
TZOFFSETFROM:+0700
TZOFFSETTO:+0700
TZNAME:+07
DTSTART:20170101T000000
END:STANDARD
END:VTIMEZONE
BEGIN:VEVENT
DTSTART;VALUE=DATE:20171005
DTEND;VALUE=DATE:20171009
DTSTAMP:20260421T193755
CREATED:20150911T094028Z
LAST-MODIFIED:20210813T151054Z
UID:3490-1507161600-1507507199@prima.vn
SUMMARY:VIETNAM PRINTPACK & FOODTECH 2017 – Hội chợ ngành in và bao bì lớn nhất VN sắp diễn ra
DESCRIPTION:Thời gian: Từ 05/10 đến 08/10/2017\nĐịa điểm: Trung tâm Triển lãm và Hội nghị Sài Gòn (SECC) – 799 Đại lộ Nguyễn Văn Linh\, Quận 7\, Tp. Hồ Chí Minh. \nVIETNAM PRINTPACK & FOODTECH 2017 có quy mô trên 400 gian hàng của các công ty trong nước và quốc tế\, trưng bày và giới thiệu các sản phẩm trong lĩnh vực đóng gói bao bì\, in ấn\, công nghiệp chế biến thực phẩm và thức uống\, hứa hẹn sẽ là một diễn đàn giao lưu hợp tác sôi động và hiệu quả. \n\nĐặc biệt\, cũng trong thời gian này sẽ diễn ra 3 hoạt động quan trọng khác: (1) Hội nghị thường niên ngành In khối ASEAN\, (2) Hội nghị thường niên Hiệp hội in Việt nam và (3) Hội thảo quốc tế và huấn luyện ngành in. \nTrong hội chợ lần này\, công ty Huynh đệ Anh Khoa sẽ trưng bày những thành tựu mới nhất về ứng dụng in Kỹ thuật số trong sản xuất bao bì khổ lớn. \nTừ 8g30 đến 13giờ ngày 6/5 tại phòng hội thảo lớn của khu triển lãm sẽ diễn ra hội thảo quốc tế “Quality Management & Effective applying modern technology in Printing” \nCác chủ đề báo cáo\n1- Total Quality Management\, speaker Mr. Boy Kitane from Philippines \n2- How printers embrace modern technology to ensure survival\, speaker Mr. Jimmy Junento from Indonesia. \n3- How to deal with market challenges in Vietnam – a case study. Speaker Mr. Nguyen Thai Dung from Anh Khoa’s Brother – Vietnam \nHội thảo bằng tiếng Anh và có phiên dịch tiếng việt.
URL:https://prima.vn/event/omni-expo/
LOCATION:Hilton Birmingham Metropole Hotel\, Birmingham\, B40 1PP\, United Kingdom
CATEGORIES:Conventions
ATTACH;FMTTYPE=image/jpeg:https://prima.vn/wp-content/uploads/2015/09/21740605_713415655515148_3948838305733377976_n.jpg
END:VEVENT
END:VCALENDAR