BEGIN:VCALENDAR
VERSION:2.0
PRODID:-//Prima - ECPv5.8.0//NONSGML v1.0//EN
CALSCALE:GREGORIAN
METHOD:PUBLISH
X-WR-CALNAME:Prima
X-ORIGINAL-URL:https://prima.vn
X-WR-CALDESC:Events for Prima
BEGIN:VTIMEZONE
TZID:Asia/Krasnoyarsk
BEGIN:STANDARD
TZOFFSETFROM:+0700
TZOFFSETTO:+0700
TZNAME:+07
DTSTART:20210101T000000
END:STANDARD
END:VTIMEZONE
BEGIN:VEVENT
DTSTART;TZID=Asia/Krasnoyarsk:20211207T093000
DTEND;TZID=Asia/Krasnoyarsk:20211207T113000
DTSTAMP:20260421T182350
CREATED:20211203T075658Z
LAST-MODIFIED:20211203T075658Z
UID:8030-1638869400-1638876600@prima.vn
SUMMARY:TẦM QUAN TRỌNG CỦA KIỂM ĐỊNH BAO BÌ GIẤY KHI CHUYỂN ĐỔI TỪ IN THƯƠNG MẠI SANG IN BAO BÌ
DESCRIPTION:Nếu muốn hội nhập quốc tế và tìm kiếm các khách hàng quốc tế đầy tiềm năng\, các doanh nghiệp Việt nam cần có các minh chứng về kiểm định chất lượng bao bì. \nKiểm định bao bì giấy là một công đoạn không thể thiếu trong việc sản xuất sản phẩm cho các chuỗi cung ứng hàng hóa. Làm sao thỏa mãn các đòi hỏi rất khác biệt của các khách hàng khác nhau\, khả năng đáp ứng của các đơn vị sản xuất nhỏ lẻ trong mối tương quan với các cơ quan kiểm định chuyên nghiệp … \nHÃY CÙNG HỌC VIỆN PRINTMEDIA VIỆT NAM TÌM HIỂU VỀ CÁC KHÍA CẠNH KHÁC NHAU CỦA KIỂM ĐỊNH ĐỐI VỚI CÁC CƠ SỞ SẢN XUẤT BAO BÌ GIẤY TRONG BUỔI HỘI THẢO TRỰC TUYẾN CỦA CHÚNG TÔI. \n\n\n\n\nNgày tháng: Thứ ba\, ngày 07/12/2021\nThời gian: 9g30 – 11g30\, giờ Việt Nam\n\n\n\n 
URL:https://prima.vn/event/tam-quan-trong-cua-kiem-dinh-bao-bi-giay-khi-chuyen-doi-tu-in-thuong-mai-sang-in-bao-bi/
LOCATION:Online
ATTACH;FMTTYPE=image/jpeg:https://prima.vn/wp-content/uploads/2021/11/banner-bao-bi-giay.jpg
ORGANIZER;CN="PrintMedia%20Academy%20Vietnm":MAILTO:admin@prima.vn
END:VEVENT
END:VCALENDAR