BEGIN:VCALENDAR
VERSION:2.0
PRODID:-//Prima - ECPv5.8.0//NONSGML v1.0//EN
CALSCALE:GREGORIAN
METHOD:PUBLISH
X-WR-CALNAME:Prima
X-ORIGINAL-URL:https://prima.vn
X-WR-CALDESC:Events for Prima
BEGIN:VTIMEZONE
TZID:Asia/Krasnoyarsk
BEGIN:STANDARD
TZOFFSETFROM:+0700
TZOFFSETTO:+0700
TZNAME:+07
DTSTART:20220101T000000
END:STANDARD
END:VTIMEZONE
BEGIN:VEVENT
DTSTART;VALUE=DATE:20220921
DTEND;VALUE=DATE:20220925
DTSTAMP:20260421T182344
CREATED:20220418T065909Z
LAST-MODIFIED:20220418T065909Z
UID:9066-1663718400-1664063999@prima.vn
SUMMARY:TRIỄN LÃM QUỐC TẾ LẦN THỨ 20 VỀ MÁY MÓC THIẾT BỊ CÔNG NGHIỆP NGÀNH BAO BÌ & IN ẤN
DESCRIPTION:Triển Lãm Quốc Tế lần thứ 20 về máy móc thiết bị công nghiệp ngành Bao Bì & In Ấn  \n\nThời gian triển lãm : 21-24 tháng 9 năm 2022 \nĐịa Điểm : Trung Tâm Hội Nghị và Triển Lãm Sài Gòn SECC ( HALL B ) \nĐịa chỉ : 799 Nguyễn Văn Linh \, Quận 7\, TPHCM. \nQuy mô : Hơn 500 gian hàng \nGiá gian hàng tiêu chuẩn: USD 290/m2 chưa VAT ( tối thiểu 9m2) \nGian hàng đất trống : USD 260/m2 chưa VAT ( tối thiểu 18m2) \n\nĐể đăng ký gian hàng vui lòng liên hệ BTC CHAN CHAO INTERNATIONAL CO.\, LTD. YORKERS EXHIBITION SERVICE VIETNAM CO.\, LTD \n\n Contact : Ms. Jen Lau (Trân) – (+84)0901 791 628\nAddress : R1107\, Fl11 Indochina Tower\, 04 Nguyen Dinh Chieu St.\, Dist 01\, HCMC \nTel: 028-38279156/Ext: 107 Fax: 028-38279157 \nEmail: salesc@chanchao.com.tw Website : https://www.chanchao.com.tw
URL:https://prima.vn/event/trien-lam-quoc-te-lan-thu-20-ve-may-moc-thiet-bi-cong-nghiep-nganh-bao-bi-in-an/
LOCATION:799 Nguyễn Văn Linh \, Quận 7\, TPHCM\, Viet Nam
ATTACH;FMTTYPE=image/png:https://prima.vn/wp-content/uploads/2022/04/Screen-Shot-2022-04-18-at-13.56.36.png
END:VEVENT
END:VCALENDAR