BEGIN:VCALENDAR
VERSION:2.0
PRODID:-//Prima - ECPv5.8.0//NONSGML v1.0//EN
CALSCALE:GREGORIAN
METHOD:PUBLISH
X-WR-CALNAME:Prima
X-ORIGINAL-URL:https://prima.vn
X-WR-CALDESC:Events for Prima
BEGIN:VTIMEZONE
TZID:Asia/Krasnoyarsk
BEGIN:STANDARD
TZOFFSETFROM:+0700
TZOFFSETTO:+0700
TZNAME:+07
DTSTART:20210101T000000
END:STANDARD
END:VTIMEZONE
BEGIN:VEVENT
DTSTART;TZID=Asia/Krasnoyarsk:20210623T010000
DTEND;TZID=Asia/Krasnoyarsk:20210623T030000
DTSTAMP:20260421T182258
CREATED:20210621T012737Z
LAST-MODIFIED:20210621T012738Z
UID:4528-1624410000-1624417200@prima.vn
SUMMARY:Webinar: The Simple Way to Manage Your Color Standards
DESCRIPTION:Vào ngày 22/06/2021 theo giờ US\, Techkon USA tổ chức hội thảo trực tuyến về chủ đề “Phương pháp quản lý màu theo tiêu chuẩn nội bộ” – Diển giả: Steve Rankin. Hội thảo được trình bày trực tuyến và sử dụng tiếng Anh.
URL:https://prima.vn/event/webinar-the-simple-way-to-manage-your-color-standards/
LOCATION:Webinar
ATTACH;FMTTYPE=image/png:https://prima.vn/wp-content/uploads/2021/06/spectrodens_measurement_crpc350x263.png
END:VEVENT
END:VCALENDAR