BEGIN:VCALENDAR
VERSION:2.0
PRODID:-//Prima - ECPv5.8.0//NONSGML v1.0//EN
CALSCALE:GREGORIAN
METHOD:PUBLISH
X-WR-CALNAME:Prima
X-ORIGINAL-URL:https://prima.vn
X-WR-CALDESC:Events for Prima
BEGIN:VTIMEZONE
TZID:Asia/Krasnoyarsk
BEGIN:STANDARD
TZOFFSETFROM:+0700
TZOFFSETTO:+0700
TZNAME:+07
DTSTART:20240101T000000
END:STANDARD
END:VTIMEZONE
BEGIN:VEVENT
DTSTART;TZID=Asia/Krasnoyarsk:20240816T080000
DTEND;TZID=Asia/Krasnoyarsk:20241017T170000
DTSTAMP:20260421T182255
CREATED:20240717T115556Z
LAST-MODIFIED:20240717T115556Z
UID:11925-1723795200-1729184400@prima.vn
SUMMARY:WORKSHOP "PHÁT TRIỂN TÀI NĂNG QUẢN TRỊ VIÊN TUYẾN ĐẦU"
DESCRIPTION:
URL:https://prima.vn/event/workshop-phat-trien-tai-nang-quan-tri-vien-tuyen-dau/
LOCATION:Vinpas\, Viet Nam
END:VEVENT
END:VCALENDAR